BEGIN:VCALENDAR
VERSION:2.0
PRODID:-//eventon.com NONSGML v1.0//EN
CALSCALE:GREGORIAN
METHOD:PUBLISH
BEGIN:VEVENT
UID:69e8ff887f936
DTSTAMP:20260422T170408Z
DTSTART:20251029T030000Z
DTEND:20251031T110000Z
LOCATION:D2
SUMMARY:INDONESIA – PACIFIC COATING SHOW & CONFERENCE 2025
DESCRIPTION:INDONESIA – PACIFIC COATING SHOW & CONFERENCE 2025\nhttps://e
 xhibition.jiexpo.com/events/indonesia-coating-show-ics-2025/
URL:https://exhibition.jiexpo.com/events/indonesia-coating-show-ics-2025/
END:VEVENT
END:VCALENDAR