BEGIN:VCALENDAR
VERSION:2.0
PRODID:-//eventon.com NONSGML v1.0//EN
CALSCALE:GREGORIAN
METHOD:PUBLISH
BEGIN:VEVENT
UID:69e4d25c94ed3
DTSTAMP:20260419T130220Z
DTSTART:20250429T040000Z
DTEND:20250504T130000Z
LOCATION:A123\,  B123\,  C13 &amp; OPEN SPACE
SUMMARY:PERIKLINDO Electric Vehicle Show (PEVS) 2025 & ASIA BIKE JAKARTA 2025
DESCRIPTION:https://www.instagram.com/pevs_id/\nhttps://exhibition.jiexpo.c
 om/events/periklindo-electric-vehicle-show-pevs-2025-asia-bike-jakarta-2025
 /
URL:https://exhibition.jiexpo.com/events/periklindo-electric-vehicle-show-pevs-2025-asia-bike-jakarta-2025/
END:VEVENT
END:VCALENDAR