BEGIN:VCALENDAR
VERSION:2.0
PRODID:-//eventon.com NONSGML v1.0//EN
CALSCALE:GREGORIAN
METHOD:PUBLISH
BEGIN:VEVENT
UID:69e9003393c98
DTSTAMP:20260422T170659Z
DTSTART:20250917T030000Z
DTEND:20250920T110000Z
LOCATION:A123 &amp; D1
SUMMARY:Electric & Power Indonesia\,  The Battery Show Indonesia
DESCRIPTION:Registration Link : https://ers-id.informa-info.com/epre25?cid=
 jiexpo-directory Website: www.electricindonesia.com www.thebatteryshowindon
 esia.com www.datacenter-asia.com/jakarta Discover the future of energy inno
 vation at Electric &amp; Power Indonesia\,  The Battery Show Indonesia\,  a
 nd Data Center Asia–Indonesia 2025. These three leading exhibitions unite
  to present cutting-edge advancements in battery technology\,  power genera
 tion\,  transmission\,  energy infrastructure\,  and data center developmen
 t to[..]\nhttps://exhibition.jiexpo.com/events/electric-power-indonesia-202
 5/
URL:https://exhibition.jiexpo.com/events/electric-power-indonesia-2025/
END:VEVENT
END:VCALENDAR