BEGIN:VCALENDAR
VERSION:2.0
PRODID:-//eventon.com NONSGML v1.0//EN
CALSCALE:GREGORIAN
METHOD:PUBLISH
BEGIN:VEVENT
UID:69e8ff2eb1f22
DTSTAMP:20260422T170238Z
DTSTART:20250821T030000Z
DTEND:20250823T110000Z
LOCATION:A123
SUMMARY:Asia Fashion (Indonesia) Show 2025
DESCRIPTION:Asia Fashion (Indonesia) Show 2025\nhttps://exhibition.jiexpo.c
 om/events/asia-fashion-indonesia-show-2025/
URL:https://exhibition.jiexpo.com/events/asia-fashion-indonesia-show-2025/
END:VEVENT
END:VCALENDAR