BEGIN:VCALENDAR
VERSION:2.0
PRODID:-//eventon.com NONSGML v1.0//EN
CALSCALE:GREGORIAN
METHOD:PUBLISH
BEGIN:VEVENT
UID:69e609915c8f2
DTSTAMP:20260420T111009Z
DTSTART:20241130T040000Z
DTEND:20241130T163000Z
LOCATION:Gambir Expo
SUMMARY:EVERBLAST FESTIVAL
DESCRIPTION:EVERBLAST FESTIVAL\nhttps://exhibition.jiexpo.com/events/everbl
 ast-festival-2/
URL:https://exhibition.jiexpo.com/events/everblast-festival-2/
END:VEVENT
END:VCALENDAR