BEGIN:VCALENDAR
VERSION:2.0
PRODID:-//eventon.com NONSGML v1.0//EN
CALSCALE:GREGORIAN
METHOD:PUBLISH
BEGIN:VEVENT
UID:69e7aef9760f4
DTSTAMP:20260421T170809Z
DTSTART:20240911T030000Z
DTEND:20240914T110000Z
LOCATION:Hall C3
SUMMARY:OIL & GAS INDONESIA
DESCRIPTION:OIL & GAS INDONESIA\nhttps://exhibition.jiexpo.com/events/oil-g
 as-indonesia-2/
URL:https://exhibition.jiexpo.com/events/oil-gas-indonesia-2/
END:VEVENT
END:VCALENDAR