BEGIN:VCALENDAR
VERSION:2.0
PRODID:-//eventon.com NONSGML v1.0//EN
CALSCALE:GREGORIAN
METHOD:PUBLISH
BEGIN:VEVENT
UID:69e8ff298b02c
DTSTAMP:20260422T170233Z
DTSTART:20240129T110000Z
DTEND:20240129T160000Z
LOCATION:D2
SUMMARY:BIG BANG STAGE
DESCRIPTION:BIG BANG STAGE\nhttps://exhibition.jiexpo.com/events/big-bang-s
 tage/
URL:https://exhibition.jiexpo.com/events/big-bang-stage/
END:VEVENT
END:VCALENDAR