BEGIN:VCALENDAR
VERSION:2.0
PRODID:-//eventon.com NONSGML v1.0//EN
CALSCALE:GREGORIAN
METHOD:PUBLISH
BEGIN:VEVENT
UID:69eb981fc4cc5
DTSTAMP:20260424T161943Z
DTSTART:20240508T030000Z
DTEND:20240511T110000Z
LOCATION:Hall D1
SUMMARY:Global Printing & Packaging Expo (GPPE)
DESCRIPTION:Global Printing & Packaging Expo (GPPE)\nhttps://exhibition.jie
 xpo.com/events/gppe-global-printing-packaging-expo/
URL:https://exhibition.jiexpo.com/events/gppe-global-printing-packaging-expo/
END:VEVENT
END:VCALENDAR