BEGIN:VCALENDAR
VERSION:2.0
PRODID:-//eventon.com NONSGML v1.0//EN
CALSCALE:GREGORIAN
METHOD:PUBLISH
BEGIN:VEVENT
UID:69ea3b852f2ca
DTSTAMP:20260423T153221Z
DTSTART:20240320T020000Z
DTEND:20240323T100000Z
LOCATION:A123 B123 C123 &amp; D12
SUMMARY:Indo Intertex 2024
DESCRIPTION:Indo Intertex 2024\nhttps://exhibition.jiexpo.com/events/indo-i
 ntertex/
URL:https://exhibition.jiexpo.com/events/indo-intertex/
END:VEVENT
END:VCALENDAR