BEGIN:VCALENDAR
VERSION:2.0
PRODID:-//eventon.com NONSGML v1.0//EN
CALSCALE:GREGORIAN
METHOD:PUBLISH
BEGIN:VEVENT
UID:69ea7e9767574
DTSTAMP:20260423T201831Z
DTSTART:20240911T030000Z
DTEND:20240914T110000Z
LOCATION:HALL A123\,  B13\,  OPEN SPACE &amp; WEST PARK
SUMMARY:MINING INDONESIA 2024
DESCRIPTION:MINING INDONESIA 2024\nhttps://exhibition.jiexpo.com/events/min
 ing-indonesia-2024/
URL:https://exhibition.jiexpo.com/events/mining-indonesia-2024/
END:VEVENT
END:VCALENDAR