BEGIN:VCALENDAR
VERSION:2.0
PRODID:-//eventon.com NONSGML v1.0//EN
CALSCALE:GREGORIAN
METHOD:PUBLISH
BEGIN:VEVENT
UID:69e5a44c09978
DTSTAMP:20260420T035804Z
DTSTART:20240215T040000Z
DTEND:20240225T140000Z
LOCATION:Hall A123\,  B123\,  C123\,  D12 &amp; OPEN SPACE
SUMMARY:INDONESIA INTERNATIONAL MOTOR SHOW (IIMS) 2024
DESCRIPTION:INDONESIA INTERNATIONAL MOTOR SHOW (IIMS) 2024\nhttps://exhibit
 ion.jiexpo.com/events/indonesia-international-motor-show-iims-2024/
URL:https://exhibition.jiexpo.com/events/indonesia-international-motor-show-iims-2024/
END:VEVENT
END:VCALENDAR