BEGIN:VCALENDAR
VERSION:2.0
PRODID:-//eventon.com NONSGML v1.0//EN
CALSCALE:GREGORIAN
METHOD:PUBLISH
BEGIN:VEVENT
UID:69e8ff290bf98
DTSTAMP:20260422T170233Z
DTSTART:20231222T040000Z
DTEND:20240101T160000Z
LOCATION:HALL A123\,  B12 &amp; C12
SUMMARY:BIG BANG JAKARTA
DESCRIPTION:BIG BANG JAKARTA\nhttps://exhibition.jiexpo.com/events/big-bang
 -jakarta/
URL:https://exhibition.jiexpo.com/events/big-bang-jakarta/
END:VEVENT
END:VCALENDAR