BEGIN:VCALENDAR
VERSION:2.0
PRODID:-//eventon.com NONSGML v1.0//EN
CALSCALE:GREGORIAN
METHOD:PUBLISH
BEGIN:VEVENT
UID:69ea401a80571
DTSTAMP:20260423T155154Z
DTSTART:20230817T060000Z
DTEND:20230820T160000Z
LOCATION:Gambir Expo
SUMMARY:RI FEST
DESCRIPTION:RI FEST\nhttps://exhibition.jiexpo.com/events/ri-fest/
URL:https://exhibition.jiexpo.com/events/ri-fest/
END:VEVENT
END:VCALENDAR