BEGIN:VCALENDAR
VERSION:2.0
PRODID:-//eventon.com NONSGML v1.0//EN
CALSCALE:GREGORIAN
METHOD:PUBLISH
BEGIN:VEVENT
UID:69e63941a1d5d
DTSTAMP:20260420T143337Z
DTSTART:20230926T120000Z
DTEND:20230927T150000Z
LOCATION:Hall D2
SUMMARY:NICOLE WORLD TOUR 2023
DESCRIPTION:NICOLE WORLD TOUR 2023\nhttps://exhibition.jiexpo.com/events/ko
 nser-solo-niki/
URL:https://exhibition.jiexpo.com/events/konser-solo-niki/
END:VEVENT
END:VCALENDAR