BEGIN:VCALENDAR
VERSION:2.0
PRODID:-//eventon.com NONSGML v1.0//EN
CALSCALE:GREGORIAN
METHOD:PUBLISH
BEGIN:VEVENT
UID:69e8e9d569a73
DTSTAMP:20260422T153133Z
DTSTART:20230826
DTEND:20230827
LOCATION:West Park
SUMMARY:ASIAN SOUND SYNDICATE
DESCRIPTION:ASIAN SOUND SYNDICATE\nhttps://exhibition.jiexpo.com/events/asi
 an-sound-syndicate/
URL:https://exhibition.jiexpo.com/events/asian-sound-syndicate/
END:VEVENT
END:VCALENDAR