BEGIN:VCALENDAR
VERSION:2.0
PRODID:-//eventon.com NONSGML v1.0//EN
CALSCALE:GREGORIAN
METHOD:PUBLISH
BEGIN:VEVENT
UID:69e902232a6b7
DTSTAMP:20260422T171515Z
DTSTART:20230602
DTEND:20230603
LOCATION:Hall A123\,  B12\,  C12 &amp; D12
SUMMARY:JAKARTA INTERNATIONAL JAVA JAZZ FESTIVAL
DESCRIPTION:JAKARTA INTERNATIONAL JAVA JAZZ FESTIVAL\nhttps://exhibition.ji
 expo.com/events/jakarta-international-java-jazz-festival/
URL:https://exhibition.jiexpo.com/events/jakarta-international-java-jazz-festival/
END:VEVENT
END:VCALENDAR