BEGIN:VCALENDAR
VERSION:2.0
PRODID:-//eventon.com NONSGML v1.0//EN
CALSCALE:GREGORIAN
METHOD:PUBLISH
BEGIN:VEVENT
UID:69e902f8539ba
DTSTAMP:20260422T171848Z
DTSTART:20230913T030000Z
DTEND:20230916T110000Z
LOCATION:Hall B123\,  HALL D2\,  OPEN SPACE
SUMMARY:MINING INDONESIA 2023
DESCRIPTION:MINING INDONESIA 2023\nhttps://exhibition.jiexpo.com/events/con
 struction-indonesia-2023-concrete-sea-2023/
URL:https://exhibition.jiexpo.com/events/construction-indonesia-2023-concrete-sea-2023/
END:VEVENT
END:VCALENDAR