BEGIN:VCALENDAR
VERSION:2.0
PRODID:-//eventon.com NONSGML v1.0//EN
CALSCALE:GREGORIAN
METHOD:PUBLISH
BEGIN:VEVENT
UID:69e55416a769f
DTSTAMP:20260419T221550Z
DTSTART:20231017T030000Z
DTEND:20231019T100000Z
LOCATION:HALL A2\, 3
SUMMARY:INDONESIA MARITIME EXPO 2023 (IME)
DESCRIPTION:INDONESIA MARITIME EXPO 2023 (IME)\nhttps://exhibition.jiexpo.c
 om/events/indonesia-maritime-expo-2023-ime/
URL:https://exhibition.jiexpo.com/events/indonesia-maritime-expo-2023-ime/
END:VEVENT
END:VCALENDAR