BEGIN:VCALENDAR
VERSION:2.0
PRODID:-//eventon.com NONSGML v1.0//EN
CALSCALE:GREGORIAN
METHOD:PUBLISH
BEGIN:VEVENT
UID:69e901aaabc53
DTSTAMP:20260422T171314Z
DTSTART:20230209T170000Z
DTEND:20230212T050000Z
LOCATION:Gambir Expo
SUMMARY:FESTIVAL PASAR MUSIK
DESCRIPTION:FESTIVAL PASAR MUSIK\nhttps://exhibition.jiexpo.com/events/fest
 ival-pasar-musik/
URL:https://exhibition.jiexpo.com/events/festival-pasar-musik/
END:VEVENT
END:VCALENDAR