BEGIN:VCALENDAR
VERSION:2.0
PRODID:-//eventon.com NONSGML v1.0//EN
CALSCALE:GREGORIAN
METHOD:PUBLISH
BEGIN:VEVENT
UID:69e8f9b2c0a9c
DTSTAMP:20260422T163914Z
DTSTART:20221104T070000Z
DTEND:20221106T160000Z
LOCATION:Gambir Expo
SUMMARY:Pekan Gembira Ria
DESCRIPTION:Pekan Gembira Ria\nhttps://exhibition.jiexpo.com/events/pekan-g
 embira-ria/
URL:https://exhibition.jiexpo.com/events/pekan-gembira-ria/
END:VEVENT
END:VCALENDAR