BEGIN:VCALENDAR
VERSION:2.0
PRODID:-//eventon.com NONSGML v1.0//EN
CALSCALE:GREGORIAN
METHOD:PUBLISH
BEGIN:VEVENT
UID:69e53d7cebb93
DTSTAMP:20260419T203924Z
DTSTART:20220609
DTEND:20220610
LOCATION:ALL AREA JIEXPO
SUMMARY:JAKARTA FAIR 2022
DESCRIPTION:JAKARTA FAIR 2022\nhttps://exhibition.jiexpo.com/events/jakarta
 -fair-2022/
URL:https://exhibition.jiexpo.com/events/jakarta-fair-2022/
END:VEVENT
END:VCALENDAR