BEGIN:VCALENDAR
VERSION:2.0
PRODID:-//eventon.com NONSGML v1.0//EN
CALSCALE:GREGORIAN
METHOD:PUBLISH
BEGIN:VEVENT
UID:69e4d20072f74
DTSTAMP:20260419T130048Z
DTSTART:20220722
DTEND:20220723
LOCATION:Hall B3 &amp; C123
SUMMARY:Periklindo Electric Vehicle Show
DESCRIPTION:Periklindo Electric Vehicle Show\nhttps://exhibition.jiexpo.com
 /events/perlikindo-electric-vehicle-show/
URL:https://exhibition.jiexpo.com/events/perlikindo-electric-vehicle-show/
END:VEVENT
END:VCALENDAR