BEGIN:VCALENDAR
VERSION:2.0
PRODID:-//eventon.com NONSGML v1.0//EN
CALSCALE:GREGORIAN
METHOD:PUBLISH
BEGIN:VEVENT
UID:69e72bb964c7c
DTSTAMP:20260421T074809Z
DTSTART:20180712T180000Z
DTEND:20180713T180000Z
LOCATION:West Park
SUMMARY:Safety Riding
DESCRIPTION:Safety Riding\nhttps://exhibition.jiexpo.com/events/safety-ridi
 ng-4/
URL:https://exhibition.jiexpo.com/events/safety-riding-4/
END:VEVENT
END:VCALENDAR