BEGIN:VCALENDAR
VERSION:2.0
PRODID:-//eventon.com NONSGML v1.0//EN
CALSCALE:GREGORIAN
METHOD:PUBLISH
BEGIN:VEVENT
UID:69e6517347671
DTSTAMP:20260420T161651Z
DTSTART:20180706T180000Z
DTEND:20180707T180000Z
LOCATION:Hall C3
SUMMARY:Indonesia Game Experience
DESCRIPTION:Indonesia Game Experience\nhttps://exhibition.jiexpo.com/events
 /indonesia-game-experience/
URL:https://exhibition.jiexpo.com/events/indonesia-game-experience/
END:VEVENT
END:VCALENDAR