BEGIN:VCALENDAR
VERSION:2.0
PRODID:-//eventon.com NONSGML v1.0//EN
CALSCALE:GREGORIAN
METHOD:PUBLISH
BEGIN:VEVENT
UID:69e90090ee867
DTSTAMP:20260422T170832Z
DTSTART:20180503T180000Z
DTEND:20180505T180000Z
LOCATION:Hall D2
SUMMARY:Jakarta Mega Wedding Festival 2018
DESCRIPTION:Jakarta Mega Wedding Festival 2018\nhttps://exhibition.jiexpo.c
 om/events/jakarta-mega-wedding-festival-2018-3/
URL:https://exhibition.jiexpo.com/events/jakarta-mega-wedding-festival-2018-3/
END:VEVENT
END:VCALENDAR