BEGIN:VCALENDAR
VERSION:2.0
PRODID:-//eventon.com NONSGML v1.0//EN
CALSCALE:GREGORIAN
METHOD:PUBLISH
BEGIN:VEVENT
UID:69eb463b4b180
DTSTAMP:20260424T103019Z
DTSTART:20180502T180000Z
DTEND:20180504T180000Z
LOCATION:Hall B2
SUMMARY:Indonesia Industrial Machinery and Electronic Product (IIME) 2018
DESCRIPTION:Indonesia Industrial Machinery and Electronic Product (IIME) 20
 18\nhttps://exhibition.jiexpo.com/events/indonesia-industrial-machinery-and
 -electronic-product-iime-2018/
URL:https://exhibition.jiexpo.com/events/indonesia-industrial-machinery-and-electronic-product-iime-2018/
END:VEVENT
END:VCALENDAR