BEGIN:VCALENDAR
VERSION:2.0
PRODID:-//eventon.com NONSGML v1.0//EN
CALSCALE:GREGORIAN
METHOD:PUBLISH
BEGIN:VEVENT
UID:69e64d5c7c480
DTSTAMP:20260420T155924Z
DTSTART:20221012T030000Z
DTEND:20221015T100000Z
LOCATION:Hall B3
SUMMARY:All print Indonesia 2022\,  InterCorrugated Expo 2022\,  PAP Expo - Asian Pulp and Paper Expo 2022\,  Indo Sign & Advertising Expo 2022
DESCRIPTION:All print Indonesia 2022\,  InterCorrugated Expo 2022\,  PAP Ex
 po - Asian Pulp and Paper Expo 2022\,  Indo Sign &amp; Advertising Expo 202
 2\nhttps://exhibition.jiexpo.com/events/all-print-indonesia-2022-intercorru
 gated-expo-2022-pap-expo-asian-pulp-and-paper-expo-2022-indo-sign-advertisi
 ng-expo-2022/
URL:https://exhibition.jiexpo.com/events/all-print-indonesia-2022-intercorrugated-expo-2022-pap-expo-asian-pulp-and-paper-expo-2022-indo-sign-advertising-expo-2022/
END:VEVENT
END:VCALENDAR